Workbook
Name use_tip: '(3) Use of Silver'!#REF!
Name use_tip: '(5) Legislations'!#REF!
Name use_tip: #REF!

Sheet Introduction
E3: Developed by:
B8: Purpose of questionnaire
B10: The purpose of this questionnaire is to collect information from Downstream Users of silver and eight silver compounds on the impacts of the proposed CLH proposal classification of Category 1B Reproductive Toxicant. This survey is for downstream users of these silver substances. If you are also a manufacturer/importer of these substances, please also complete the MI version of the survey.
B12: About this questionnaire
B14: Introduction
B16: The Swedish Competent Authority (KemI) announced their intention to classify silver nitrate (in 2018) and silver metal (in 2019) as a Category 1B Reproductive Toxicant (among other hazard classifications). This Repr. 1B classification (under the Biocidal Product Regulation) will trigger an EU-wide harmonised classification and labelling (CLH) proposal for silver nitrate and silver metal, which in turn will result in other legislations triggered. Depending on toxicokinetic evidence, this could also result in read-across to other silver substances. There is currently insufficient robust scientific data available on the reproductive toxicity of silver (or its compounds). The results of the ongoing Extended One-Generation Reproductive Toxicity Study (EOGRTS) may not be ready to feed into the adopted RAC opinion. Therefore, in order for further regulatory actions to be carefully considered by the European Commission, it is important for industry to submit information on the possible impacts of the proposed classification. This in turn could help prompt a formal assessment from the Commission. This industry questionnaire is a key part of the data collection currently underway to develop this Impact Assessment. The second part of the data collection are ten (in-depth) interviews. We will be in touch separately with companies and/or sector groups for these interviews. The following tabs will ask you information on: (1) your organisation; (2) the volume of silver used in Europe; (3) the use of silver; (4) workers and sites; (5) priorities for legislation triggered by the proposed classification; and (6) impacts of these legislations. To begin, please go to the Scope & Instructions tab to find out more information about the scope of this assessment and how to complete this survey.
B19: Need help filling in the questionnaire?
B21: If you need help understanding any of the questions, please contact one of the following individuals, who will be happy to assist you:
B23: Contact: | D23: Adams Koshy
D24: adams@eftec.co.uk
D25: Tel: +44(0)2075805383
B27: Contact: | D27: France Capon
D28: france.capon@epmf.be
D29: Tel: +32(0)27610101
B31: We appreciate your time and help. Please return this completed excel questionnaire to:
B33: Oliver Pilkington | E33: oliver@eftec.co.uk
B35: France Capon | E35: france.capon@epmf.be
B37: Deadline for submission | E37: 16th March 2020
B39: CONFIDENTIALITY STATEMENT
B41: Whilst information from this questionnaire is being gathered at company / national association level, all data provided by respondents will be aggregated before it is reported, i.e. on a use/sectoral basis. We take the confidential nature of this exercise very seriously and eftec has a confidentiality agreement in place with EPMF to maintain your confidentiality. Only aggregated data will be shared with any audience that is not a member of the EPMF Secretariat or of the eftec team. Please contact France Capon (france.capon@epmf.be) if you would like to discuss any concerns you may have with confidentiality or would like to receive more information on how the data will be used by eftec or EPMF.

Sheet Scope & Instructions
B2: Scope & Instructions
B4: Scope of assessment
B6: The nine substances that you will be asked question about are as follows. - Silver metal (chemical formula: Ag, CAS no. 7440-22-4, EC no. 231,131,3) - Silver nitrate (chemical formula: AgNO3, CAS no. 7761-88-8, EC no. 231-853-9) - Silver carbonate (chemical formula: AgCO3, CAS no. 534-16-7, EC no. 208-590-3) - Disilver oxide (chemical formula: Ag2O, CAS no. 20667-12-3, EC no. 243-957-1) - Disilver (1+) sulphate (chemical formula: Ag2SO4, CAS no. 10294-26-5, EC no. 233-653-7) - Silver chloride (chemical formula: AgCl, CAS no. 7783-90-6, EC no. 232-033-3) - Silver bromide (chemical formula: AgBr, CAS no. 7785-23-1, EC no. 232-076-8) - Silver iodided (chemical formula: AgI, CAS no. 7783-96-2, EC no. 232-038-0) - Silver acetate (chemical formula: AgC2H3O2, CAS no. 563-63-3, EC no. 209-254-9) Although none of these substances have been classified as a reproductive toxicant, they are all classified as (either self-classified or under a harmonised classification) Aquatic Acute 1 and Aquatic Chronic 1. In addition, some of the substances have self classification or harmonised classification (for silver nitrate) for other hazards. For more information on the self-classification/harmonised classification, please see the Silver Inventory in the below link. If you have any further questions, please feel free to get in touch with the team at EPMF.
B7: https://www.epmf.be/silver/
B9: We will ask you questions your use of these silver substances particularly within the EEA and (separately) within Switzerland. Please note, if you do not use any of these substances you do not have to complete this survey. The following sections will provide information on completing the survey.
B11: Overview of tabs
B13: The below diagram summarises the seven tabs we would like you to complete, with a short summary of the types of questions that you can expect in each.
B26: Overview of information reported in tabs
B28: All tabs follow a similar structure of information. Please follow the instructions, errors that might appear and survey tips.
B51: A number of features have also been built into this survey to make this survey easier to complete. Where possible, drop downs have been provided and irrelevant text will either be greyed out, or cells will be filled in grey. Please note, some cells will be locked to maintain the features of the spreadsheet and cells should not be tampered with. If you have any difficulties completing this survey, please feel free to contact any of the team members listed in the Introduction. You may now move on to the first tab: (1) Your organisation.

Sheet (1) Your organisation
B2: (1) Your organisation
B4: To begin, we would like to ask you questions about your organisation. This tab includes Q1 to Q5.
B6: Q1. Please provide the following information on your company/organisation.
B8: Company/organisation name:
B9: Contact person:
B10: Contact person's email address:
B11: Contact person's telephone number (including country code):
B13: Q2. Are you completing this questionnaire on behalf of your company, or for a particular sector (e.g. as a trade association)?
B14: Please select an option from the dropdown.
B17: =IF(B16="", "", IF(B16=" On behalf of my organisation", "", "As you are completing this survey for a particular sector, please skip to Q4. Please note, in this context, where we refer to ‘you’ in this questionnaire, this is in reference to your sector."))
B19: Q3. Is your organisation a Small and Medium Sized Enterprise (SME)?
B21: Yes
B22: No
B24: =IF(B16="","",IF(B16=" On behalf of my organisation","As you are completing this survey for your company (and not a sector), please continue on to Q5 at the bottom of this tab.",""))
B26: Q4. As a sector representative, please provide the following information.
B28: Country/Countries you represent:
B29: Number of companies you represent:
B30: Number of companies that provided quantitative data for this questionnaire:
B32: =IF(B16=" On behalf of my sector", "Please continue on now to (2) Volume used.", "")
B34: Q5. Role(s) of your organisation in the supply chain: Please tick all that apply.
B36: This refers to silver and/or silver compounds, as well as products that involve these substances.
B38: Manufacturer | C38: Importer into the EEA and/or Switzerland | D38: Distributor | E38: Exporter from the EEA and/or Switzerland | F38: Downstream user | G38: Other - please specify below
B41: =IF(B16=" On behalf of my sector", "", IF('HIDDEN - Raw data'!L8=TRUE,"As you are also a manufacturer of the silver substance(s), please remember to complete the manufacturer/importer version of the survey as well. Please continue on now to the tab on the Volume used.",IF('HIDDEN - Raw data'!M8=TRUE,"As you are also a importer user of the silver substance(s), please remember to complete the manufacturer/importer version of the survey as well. Please continue on now to the tab on the Volume used.","Please continue on now to (2) Volume used."))) -> Please continue on now to (2) Volume used.

Sheet (2) Volume used
B2: (2) Volume used
B4: The following questions are to help us collate information about the total volume of silver substance(s) that you currently use in the European Economic Area (EEA) or Switzerland. This also refers to the volume of silver substance(s) that is used internally if you are a manufacturer/importer of silver substance(s). This tab includes Q6 to Q9.
B6: Q6. What volume of silver substance(s) are used?
B8: Silver substances Please note there are two parts (A and B) to this question. | C8: A. Total volume used (tonnes per year) Mean 3-year annual average (2017 - 2019) within the EEA and Switzerland. Please provide information to the nearest tonne. | D8: B. Of the total volume used - What proportion (%) is sold within the EEA and Switzerland? Please provide information to the nearest percentage.
D9: Within EEA | E9: Within Switzerland | F9: Total | G9: Survey tips
B10: EXAMPLE: Silver nitrate | C10: 100 | D10: 1 | E10: 0 | F10: =SUM(D10:E10) -> 1
B11: Silver metal | F11: =IF(C11="", "", SUM(D11:E11)) | G11: =IF(F11="", "", IF(F11<100%, "Please note, this must add up to 100%.", IF(F11>100%, "Please note, this cannot be over 100%.", "")))
B12: Silver nitrate | F12: =IF(C12="", "", SUM(D12:E12)) | G12: =IF(F12="", "", IF(F12<100%, "Please note, this must add up to 100%.", IF(F12>100%, "Please note, this cannot be over 100%.", "")))
B13: Silver carbonate | F13: =IF(C13="", "", SUM(D13:E13)) | G13: =IF(F13="", "", IF(F13<100%, "Please note, this must add up to 100%.", IF(F13>100%, "Please note, this cannot be over 100%.", "")))
B14: Disilver oxide | F14: =IF(C14="", "", SUM(D14:E14)) | G14: =IF(F14="", "", IF(F14<100%, "Please note, this must add up to 100%.", IF(F14>100%, "Please note, this cannot be over 100%.", "")))
B15: Disilver (1+) sulphate | F15: =IF(C15="", "", SUM(D15:E15)) | G15: =IF(F15="", "", IF(F15<100%, "Please note, this must add up to 100%.", IF(F15>100%, "Please note, this cannot be over 100%.", "")))
B16: Silver chloride | F16: =IF(C16="", "", SUM(D16:E16)) | G16: =IF(F16="", "", IF(F16<100%, "Please note, this must add up to 100%.", IF(F16>100%, "Please note, this cannot be over 100%.", "")))
B17: Silver bromide | F17: =IF(C17="", "", SUM(D17:E17)) | G17: =IF(F17="", "", IF(F17<100%, "Please note, this must add up to 100%.", IF(F17>100%, "Please note, this cannot be over 100%.", "")))
B18: Silver iodide | F18: =IF(C18="", "", SUM(D18:E18)) | G18: =IF(F18="", "", IF(F18<100%, "Please note, this must add up to 100%.", IF(F18>100%, "Please note, this cannot be over 100%.", "")))
B19: Silver acetate | F19: =IF(C19="", "", SUM(D19:E19)) | G19: =IF(F19="", "", IF(F19<100%, "Please note, this must add up to 100%.", IF(F19>100%, "Please note, this cannot be over 100%.", "")))
D20: =SUM(D11:D19) -> 0 | E20: =SUM(E11:E19) -> 0 | G20: =SUM(F11:F19) -> 0
B21: =IF('(1) Your organisation'!B16:H16=" On behalf of my sector", "We have identified 15 broad uses of silver and the eight silver compounds within Europe. In this section, we would like to find out more about how your sector uses the silver substance(s).", "We have identified 15 broad uses of silver and the eight silver compounds within Europe. In this section, we would like to find out more about how you use the silver substance(s).") -> We have identified 15 broad uses of silver and the eight silver compounds within Europe. In this section, we would like to find out more about how you use the silver substance(s).
B23: ROLLOVER here for more information about the uses.
B25: Q7. How do you use the silver substance(s)?
B26: Please note, there are three parts (A, B and C) to this question. Space has been provided for 10 uses below. If you require more space, please contact Adams Koshy/Oliver Pilkington to have this feature unlocked.
B28: A. Please identify the use(s) of the silver substance(s) | D28: B. Please briefly describe how the silver substance(s) are used. | I28: C. Is this use categorised as an intermediate use? Please refer to ECHA guidance on Intermediates for more information on this topic in the survey tip below.
B29: Please select from dropdown | C29: If other industrial / consumer uses, please specify
B30: EXAMPLE: Photovoltaics | C30: - | D30: Silver paste is used to create a contact between the different layers of silicon wafers. | I30: No
B41: Survey tips: Please select from dropdown | C41: Please complete if you select 'All other industrial uses' or 'All other consumer uses' from the dropdown | I41: Click here for more information on intermediates.
B43: =IF(D20>0, "As you use silver substance(s) within the EEA, please complete Q8.", IF(E20>0, "As you only have use silver substance(s) within Switzerland, please skip Q8 and move on to Q9 below.", "As you only have sales of silver substance(s) in the rest of the world, please continue on to (3) Use of Silver.")) -> As you only have sales of silver substance(s) in the rest of the world, please continue on to (3) Use of Silver.
B45: Q8. What proportion of silver substance(s) used within the EEA is for each use?
B47: Based on the identified use of silver. | D47: A. What proportion of the silver substance(s) used within the EEA is for this use? Please note, this does not include silver substance(s) that are a by product. Only silver substance(s) that are intentionally used in this use.
B48: Please note there is only one part (A) to this question. | D48: Silver metal | E48: Silver nitrate | F48: Silver carbonate | G48: Disilver oxide | H48: Disilver (1+) sulphate | I48: Silver chloride | J48: Silver bromide | K48: Silver iodide | L48: Silver acetate
B49: EXAMPLE: Photovoltaics | D49: 0.8 | E49: 0 | F49: 1 | G49: 0 | H49: 0 | I49: 0 | J49: 0 | K49: 0 | L49: 0
B50: EXAMPLE: Jewellery and luxury items/finishes | D50: 0.2 | E50: 0 | F50: 0 | G50: 0 | H50: 0 | I50: 0 | J50: 0 | K50: 0 | L50: 0
B51: =IF(B31="", "", IF(OR(B31="All other industrial uses", B31="All other consumer uses"), C31, B31))
B52: =IF(B32="", "", IF(OR(B32="All other industrial uses", B32="All other consumer uses"), C32, B32))
B53: =IF(B33="", "", IF(OR(B33="All other industrial uses", B33="All other consumer uses"), C33, B33))
B54: =IF(B34="", "", IF(OR(B34="All other industrial uses", B34="All other consumer uses"), C34, B34))
B55: =IF(B35="", "", IF(OR(B35="All other industrial uses", B35="All other consumer uses"), C35, B35))
B56: =IF(B36="", "", IF(OR(B36="All other industrial uses", B36="All other consumer uses"), C36, B36))
B57: =IF(B37="", "", IF(OR(B37="All other industrial uses", B37="All other consumer uses"), C37, B37))
B58: =IF(B38="", "", IF(OR(B38="All other industrial uses", B38="All other consumer uses"), C38, B38))
B59: =IF(B39="", "", IF(OR(B39="All other industrial uses", B39="All other consumer uses"), C39, B39))
B60: =IF(B40="", "", IF(OR(B40="All other industrial uses", B40="All other consumer uses"), C40, B40))
...

Sheet (3) Use of Silver
B2: (3) Use of Silver
B4: We would now like to ask you questions about how you use the silver substances within the EEA and Switzerland. This tab includes Q10 to Q13.
B6: Q10. Please describe the technical functionality of the silver substance(s) in these use(s).
B8: Based on the identified use of silver. | D8: A. What is (/are) the function(s) of the silver substance(s) in this use? Please select from the dropdown. | H8: B. If you have any additional information on why the silver substance is used, please include this here.
B9: Please note there are two parts (A and B) to this question. | D9: Function 1 | E9: Function 2 | F9: Function 3 | G9: If other, please specify
B10: EXAMPLE: Photovoltaics | D10: Electrical conductor | E10: Temperature resistant | H10: Silver was a substitution away from XXX substance, which was banned in the EU as a hazardous substance.
B11: =IF('(2) Volume used'!B31="", "", IF(OR('(2) Volume used'!B31="All other industrial uses", '(2) Volume used'!B31="All other consumer uses"), '(2) Volume used'!C31, '(2) Volume used'!B31))
B12: =IF('(2) Volume used'!B32="", "", IF(OR('(2) Volume used'!B32="All other industrial uses", '(2) Volume used'!B32="All other consumer uses"), '(2) Volume used'!C32, '(2) Volume used'!B32))
B13: =IF('(2) Volume used'!B33="", "", IF(OR('(2) Volume used'!B33="All other industrial uses", '(2) Volume used'!B33="All other consumer uses"), '(2) Volume used'!C33, '(2) Volume used'!B33))
B14: =IF('(2) Volume used'!B34="", "", IF(OR('(2) Volume used'!B34="All other industrial uses", '(2) Volume used'!B34="All other consumer uses"), '(2) Volume used'!C34, '(2) Volume used'!B34))
B15: =IF('(2) Volume used'!B35="", "", IF(OR('(2) Volume used'!B35="All other industrial uses", '(2) Volume used'!B35="All other consumer uses"), '(2) Volume used'!C35, '(2) Volume used'!B35))
B16: =IF('(2) Volume used'!B36="", "", IF(OR('(2) Volume used'!B36="All other industrial uses", '(2) Volume used'!B36="All other consumer uses"), '(2) Volume used'!C36, '(2) Volume used'!B36))
B17: =IF('(2) Volume used'!B37="", "", IF(OR('(2) Volume used'!B37="All other industrial uses", '(2) Volume used'!B37="All other consumer uses"), '(2) Volume used'!C37, '(2) Volume used'!B37))
B18: =IF('(2) Volume used'!B38="", "", IF(OR('(2) Volume used'!B38="All other industrial uses", '(2) Volume used'!B38="All other consumer uses"), '(2) Volume used'!C38, '(2) Volume used'!B38))
B19: =IF('(2) Volume used'!B39="", "", IF(OR('(2) Volume used'!B39="All other industrial uses", '(2) Volume used'!B39="All other consumer uses"), '(2) Volume used'!C39, '(2) Volume used'!B39))
B20: =IF('(2) Volume used'!B40="", "", IF(OR('(2) Volume used'!B40="All other industrial uses", '(2) Volume used'!B40="All other consumer uses"), '(2) Volume used'!C40, '(2) Volume used'!B40))
B21: Survey tips | C21: Data is based on your responses to Q7. | D21: Select from dropdown. | E21: Only use if more than one technical function. | F21: Only use if more than two technical functions. | G21: Only use if you select other.
B23: We would now like to ask you questions about alternatives to these uses.
B25: Q11. Are there any alternatives to the silver substance that are currently in use?
B27: Based on the identified use of silver. | D27: A. Do you know of any alternative(s) available for this use? This could be an alternative substance, process and/or technique | H27: B. What alternatives are currently available? | L27: C. Does this use have the same technical functionality as the silver substances? | O27: D. What are the likely implications on your customers' costs of switching to this alternative?
B28: Please note there are four parts (A, B, C and D) to this question. | H28: Please list all known alternatives for each use. | I28: Why is the silver substance(s) preferred over this alternative(s)? | L28: Does this have the same technical functionality as the silver substance(s)? | M28: If no, please explain why. | O28: Is the cost of acquiring the substance (i.e. of raw materials) and processing this substance the same? | P28: If one or both of these costs are likely to be different, please explain how it will be different. | Q28: Please describe any other costs that would be incurred because of the substitution
B29: EXAMPLE: Photovoltaics | D29: Yes | E29: Please complete the remaining questions in this row. | H29: Nickel, Zinc, Titanium, Copper, Aluminium | I29: Not technically feasible to replace all functions provided by silver metal. | L29: No, not the same functionality | M29: Not same level of conductivity or thermal conductivity as silver. | O29: Yes, the cost of processing is the same, but not the cost of raw materials. | P29: This cost will be higher | Q29: Additional R&D will be required to test the product within the supply chain.
B30: =IF('(2) Volume used'!B31="", "", IF(OR('(2) Volume used'!B31="All other industrial uses", '(2) Volume used'!B31="All other consumer uses"), '(2) Volume used'!C31, '(2) Volume used'!B31)) | E30: =IF(D30="","",IF(D30="Yes","Please complete the remaining questions in this row.",IF('(2) Volume used'!B32="","Please continue on to the next question.","Please continue on to the next use.")))
B31: =IF('(2) Volume used'!B32="", "", IF(OR('(2) Volume used'!B32="All other industrial uses", '(2) Volume used'!B32="All other consumer uses"), '(2) Volume used'!C32, '(2) Volume used'!B32)) | E31: =IF(D31="","",IF(D31="Yes","Please complete the remaining questions in this row.",IF('(2) Volume used'!B33="","Please continue on to the next question.","Please continue on to the next use.")))
B32: =IF('(2) Volume used'!B33="", "", IF(OR('(2) Volume used'!B33="All other industrial uses", '(2) Volume used'!B33="All other consumer uses"), '(2) Volume used'!C33, '(2) Volume used'!B33)) | E32: =IF(D32="","",IF(D32="Yes","Please complete the remaining questions in this row.",IF('(2) Volume used'!B34="","Please continue on to the next question.","Please continue on to the next use.")))
B33: =IF('(2) Volume used'!B34="", "", IF(OR('(2) Volume used'!B34="All other industrial uses", '(2) Volume used'!B34="All other consumer uses"), '(2) Volume used'!C34, '(2) Volume used'!B34)) | E33: =IF(D33="","",IF(D33="Yes","Please complete the remaining questions in this row.",IF('(2) Volume used'!B35="","Please continue on to the next question.","Please continue on to the next use.")))
B34: =IF('(2) Volume used'!B35="", "", IF(OR('(2) Volume used'!B35="All other industrial uses", '(2) Volume used'!B35="All other consumer uses"), '(2) Volume used'!C35, '(2) Volume used'!B35)) | E34: =IF(D34="","",IF(D34="Yes","Please complete the remaining questions in this row.",IF('(2) Volume used'!B36="","Please continue on to the next question.","Please continue on to the next use.")))
B35: =IF('(2) Volume used'!B36="", "", IF(OR('(2) Volume used'!B36="All other industrial uses", '(2) Volume used'!B36="All other consumer uses"), '(2) Volume used'!C36, '(2) Volume used'!B36)) | E35: =IF(D35="","",IF(D35="Yes","Please complete the remaining questions in this row.",IF('(2) Volume used'!B37="","Please continue on to the next question.","Please continue on to the next use.")))
B36: =IF('(2) Volume used'!B37="", "", IF(OR('(2) Volume used'!B37="All other industrial uses", '(2) Volume used'!B37="All other consumer uses"), '(2) Volume used'!C37, '(2) Volume used'!B37)) | E36: =IF(D36="","",IF(D36="Yes","Please complete the remaining questions in this row.",IF('(2) Volume used'!B38="","Please continue on to the next question.","Please continue on to the next use.")))
B37: =IF('(2) Volume used'!B38="", "", IF(OR('(2) Volume used'!B38="All other industrial uses", '(2) Volume used'!B38="All other consumer uses"), '(2) Volume used'!C38, '(2) Volume used'!B38)) | E37: =IF(D37="","",IF(D37="Yes","Please complete the remaining questions in this row.",IF('(2) Volume used'!B39="","Please continue on to the next question.","Please continue on to the next use.")))
B38: =IF('(2) Volume used'!B39="", "", IF(OR('(2) Volume used'!B39="All other industrial uses", '(2) Volume used'!B39="All other consumer uses"), '(2) Volume used'!C39, '(2) Volume used'!B39)) | E38: =IF(D38="","",IF(D38="Yes","Please complete the remaining questions in this row.",IF('(2) Volume used'!B40="","Please continue on to the next question.","Please continue on to the next use.")))
B39: =IF('(2) Volume used'!B40="", "", IF(OR('(2) Volume used'!B40="All other industrial uses", '(2) Volume used'!B40="All other consumer uses"), '(2) Volume used'!C40, '(2) Volume used'!B40)) | E39: =IF(D39="","",IF(D39="Yes","Please complete the remaining questions in this row.",IF('(2) Volume used'!B41="","Please continue on to the next question.","Please continue on to the next use.")))
B40: Survey tips | C40: Data is based on your responses to Q7. | H40: List all alternative substances in one cell.
B42: Finally, we would like to find out more about the end product(s) (i.e. final products) of each use of silver listed.
B44: =IF('(2) Volume used'!B32="", "Q12. What is the end product(s) of this use of silver?", "Q12. What are the end product(s) of these uses of silver?") -> Q12. What is the end product(s) of this use of silver?
B46: Based on the identified use of silver. | D46: A. Do you know what the end product is of this use of silver? | E46: B. Please describe what you believe is the end product(s) of this use of silver. | H46: C. What are the implications on the end product of switching to the alternative(s) listed in Q11?
B47: Please note there is only three parts (A, B and C) to this question. | H47: Do you believe that the use of this alternative would have any impact on the product? | I47: If yes, please explain why.
B48: EXAMPLE: Photovoltaics | D48: Yes | E48: Solar panels | H48: Yes, on the quality of the product | I48: Given the lower conductivity, the panels are less effective. Meaning that a larger number of panels are required.
B49: =IF('(2) Volume used'!B31="", "", IF(OR('(2) Volume used'!B31="All other industrial uses", '(2) Volume used'!B31="All other consumer uses"), '(2) Volume used'!C31, '(2) Volume used'!B31))
B50: =IF('(2) Volume used'!B32="", "", IF(OR('(2) Volume used'!B32="All other industrial uses", '(2) Volume used'!B32="All other consumer uses"), '(2) Volume used'!C32, '(2) Volume used'!B32))
...

Sheet (4) Workers
B2: (4) Workers
B4: The focus of the proposed classification is on the potential reproductive toxicity risks caused by exposure to silver and the silver compounds. The Extended One-Generation Reproductive Toxicity Study (EOGRTS) study will compile information on risks and potential modes of exposure (i.e. exposure routes) for the reproductivity toxicity. In order to assess the impacts we would like to collect information on the potential number of employees exposed to these substances. This tab includes Q14 only.
B6: Q14. How many sites and employees are involved in this use?
B8: Silver substances Please note there are three parts (A, B and C) to this question. | C8: A. Sites in the EEA and Switzerland which handle the substance(s) (i.e. exclude any distribution / sales locations) | E8: B. Total number of employees | G8: C. Total number of employees potentially exposed to the substance(s)
C10: Number | D10: Location of sites | E10: Within the EEA | F10: Within Switzerland | G10: Within the EEA | H10: Within Switzerland
B11: Survey tips | C11: Please provide whole numbers | D11: Please list all | E11: Please provide whole numbers | G11: Please provide whole numbers
B12: EXAMPLE: Silver nitrate | C12: 3 | D12: Belgium, Germany, Switzerland | E12: 1000 | F12: 100 | G12: 500 | H12: 50
B13: Silver metal
B14: Silver nitrate
B15: Silver carbonate
B16: Disilver oxide
B17: Disilver (1+) sulphate
B18: Silver chloride
B19: Silver bromide
B20: Silver iodide
B21: Silver acetate
B23: Thank you for taking the time to complete this information. Please now continue on to (5) Legislations.

Sheet (5) Legislations
B2: (5) Legislations
B4: ="The proposed CLP proposal (Repro 1B) will trigger a number of legislation that may have an impact on the use of silver substance(s). We have identified "&COUNTA('Legislation tool - TO HIDE'!AK14:AK44)-COUNTIF('Legislation tool - TO HIDE'!AK14:AK44,"")&" relevant legislation that could be triggered and may affect the manufacture and import of silver substance(s)."&" We would like to find out more information about your priorities around these legislation. Depending on your use(s) of the silver substance(s) the relevant legislation will be highlighted below, while the rest remain greyed out." -> The proposed CLP proposal (Repro 1B) will trigger a number of legislation that may have an impact on the use of silver substance(s). We have identified 0 relevant legislation that could be triggered and may affect the manufacture and import of silver substance(s). We would like to find out more information about your priorities around these legislation. Depending on your use(s) of the silver substance(s) the relevant legislation will be highlighted below, while the rest remain greyed out.
B5: =IF(OR(COUNTIF('(2) Volume used'!$B$31:$B$40, "All other industrial uses")>0, COUNTIF('(2) Volume used'!$B$31:$B$40, "All other consumer uses")>0), "Please note that as you have selected 'All other industrial uses' and/or 'All other consumers uses' in Q7, some of the legislation listed below may not be directly relevant to your sector."&" For example, the Textile Regulation will not be relevant unless you/your members are textile manufacturers.", "")
B6: This tab includes Q15 and Q16.
B8: Q15. How important are the legislations that will be triggered?
B10: A. What legislations will be triggered? | F10: We believe that the likelihood of this legislation being triggered is as follows. | G10: B. If you do not agree with any of these assessments, please explain why. | H10: C. What are the most important legislations that you think will have the greatest impact on you and your sector? Please rank the top five legislation.
B11: The following list of legislation is the list of legislation that will be triggered due to your specific use(s) of silver substance(s). | E11: Have you heard about this legislation before? - | F11: Definitely triggered: This legislation will definitely be triggered by the Repr. 1B classification. Potential triggered: This legislation may be triggered, for example if other legislations are triggered. Unclear: It is unclear if this legislation will be triggered, particularly due to the self-classification of the silver substances.
B12: Survey tips: | C12: For more information on each legislation, please press the ungroup [+] button above column D. | E12: Please tick all that apply. | G12: If you have no comments, please skip on to question C (on the right). | H12: Please rank from 1 - 5 using the dropdown below.
B13: CLP Regulation | D13: =VLOOKUP($B13,'Legislation tool - TO HIDE'!$B$48:$K$78,2,FALSE) -> This regulation is based on the United Nations’ Globally Harmonised System (GHS). The overall objective of the regulation is to “[…] ensure a high level of protection of human health and the environment as well as the free movement of chemical substances, mixtures and certain specific articles, while enhancing competitiveness and innovation.” (CLP, 2008, Article 1). CLP is legally binding across Member States and directly applicable to all industrial sectors. It requires manufacturers, importers or downstream users of substances or mixtures to classify, label and package their hazardous chemicals appropriately before placing them on the market. | F13: =VLOOKUP($B13,'Legislation tool - TO HIDE'!$B$48:$K$78,3,FALSE) -> Will definitely be triggered
B14: REACH - Registration, Information in supply chain, Downstream users | D14: =VLOOKUP($B14,'Legislation tool - TO HIDE'!$B$48:$K$78,2,FALSE) -> REACH imposes a general obligation to provide ECHA with information on all substances and mixtures that are placed on the market in the EU (TITLE II). TITLE IV and TITLE V further details what type of information to communicate through the supply chain | F14: =VLOOKUP($B14,'Legislation tool - TO HIDE'!$B$48:$K$78,3,FALSE) -> Will definitely be triggered
B15: REACH - Evaluation | D15: =VLOOKUP($B15,'Legislation tool - TO HIDE'!$B$48:$K$78,2,FALSE) -> TITLE VI sets out information requirements for a Member State when carrying out substance evaluation and require companies to provide any additional data needed for the evaluation process requested by the Members State. | F15: =VLOOKUP($B15,'Legislation tool - TO HIDE'!$B$48:$K$78,3,FALSE) -> Will potentially be triggered
B16: REACH Regulation - SVHC and candidate listing | D16: =VLOOKUP($B16,'Legislation tool - TO HIDE'!$B$48:$K$78,2,FALSE) -> The aim of the authorisation route is to ensure that the risks from substances of very high concern (SVHCs) are controlled and that these substances are progressively replaced by technically and economically feasible alternatives. The first step in the authorisation process is the identification of a substance as a Substance of Very High Concern (SVHC). After a substance has been identified as an SVHC, it is immediately included in the Candidate List – the list of substances that are evaluated for inclusion in Annex XIV. | F16: =VLOOKUP($B16,'Legislation tool - TO HIDE'!$B$48:$K$78,3,FALSE) -> Will potentially be triggered
B17: REACH Regulation - Authorisation | D17: =VLOOKUP($B17,'Legislation tool - TO HIDE'!$B$48:$K$78,2,FALSE) -> The aim of the authorisation route is to ensure that the risks from substances of very high concern (SVHCs) are controlled and that these substances are progressively replaced by technically and economically feasible alternatives. A substance is included in Annex XIV with a sunset date, which is the date after which the substance cannot be placed on the market unless an authorisation is granted. An authorisation can be obtained by submitting an application to ECHA or, for downstream users, through an upstream user application. | F17: =VLOOKUP($B17,'Legislation tool - TO HIDE'!$B$48:$K$78,3,FALSE) -> Will potentially be triggered
B18: REACH Regulation - Restriction | D18: =VLOOKUP($B18,'Legislation tool - TO HIDE'!$B$48:$K$78,2,FALSE) -> A restriction can be proposed when there is a concern that a substance poses an unacceptable risk to human health or the environment. The restriction process under REACH complements the authorisation process and can address any remaining risks not addressed by authorisations. This may be substances that are not yet included in Annex XIV or risks from substances included in Annex XIV for which the use(s) is exempt, e.g. import of articles | F18: =VLOOKUP($B18,'Legislation tool - TO HIDE'!$B$48:$K$78,3,FALSE) -> Will potentially be triggered
B19: PIC Regulation | D19: =VLOOKUP($B19,'Legislation tool - TO HIDE'!$B$48:$K$78,2,FALSE) -> This regulation implements the Rotterdam Convention in the EU (Rotterdam Convention, 2017). The objectives of the regulation are to “promote shared responsibility and cooperative efforts in the international movement of hazardous chemicals in order to protect human health and the environment from potential harm” and “contribute to the environmentally sound use of hazardous chemicals” (Article 1). It also ensures that CLP requirements apply to chemicals when exported from the EU to third party countries. | F19: =VLOOKUP($B19,'Legislation tool - TO HIDE'!$B$48:$K$78,3,FALSE) -> Will definitely be triggered
B20: CAD Regulation | D20: =VLOOKUP($B20,'Legislation tool - TO HIDE'!$B$48:$K$78,2,FALSE) -> The directive on the protection of the health and safety of workers from the risks related to chemical agents at work (CAD) (98/24/EC) “lays down minimum requirements for the protection of workers from risks to their safety and health arising, or likely to arise, from the effects of chemical agents that are present at the workplace or as a result of any work activity involving chemical agents” (Article 1(1)). The scope of the regulation covers “[…] where hazardous chemical agents are present or may be present at the workplace […]” (Article 1(2)). | F20: =VLOOKUP($B20,'Legislation tool - TO HIDE'!$B$48:$K$78,3,FALSE) -> It is currently unclear if this will be triggered, as it may already be in place
B21: Pregnant Workers Directive | D21: =VLOOKUP($B21,'Legislation tool - TO HIDE'!$B$48:$K$78,2,FALSE) -> The directive is “[…] to implement measures to encourage improvements in the safety and health at work of pregnant workers and workers who have recently given birth or who are breastfeeding” (Article 1(1)). This statement also defines the scope of the regulation. | F21: =VLOOKUP($B21,'Legislation tool - TO HIDE'!$B$48:$K$78,3,FALSE) -> Will potentially be triggered
B22: Young Workers Protection Directive | D22: =VLOOKUP($B22,'Legislation tool - TO HIDE'!$B$48:$K$78,2,FALSE) -> According to this directive “[…] Member States shall ensure in general that employers guarantee that young people have working conditions which suit their age. They shall ensure that young people are protected against economic exploitation and against any work likely to harm their safety, health or physical, mental, moral or social development or to jeopardize their education” (Article 1(3)). The scope of the regulation is anyone under the age of 18 with an employment contract/employment relationship, although in some Member States this may not apply for short-term work (e.g. domestic service or work not considered harmful and in a family undertaking) (Article 2). | F22: =VLOOKUP($B22,'Legislation tool - TO HIDE'!$B$48:$K$78,3,FALSE) -> Will potentially be triggered
B23: Water Framework Directive | D23: =VLOOKUP($B23,'Legislation tool - TO HIDE'!$B$48:$K$78,2,FALSE) -> The main objectives of the Water Framework Directive (2000, Article 1) are to protect and enhance the status of aquatic ecosystems, eliminate hazardous substances and to ensure sufficient supply of food quality surface and ground water. The Directive sets out indicators (e.g. biological, chemical and ecological) for determining the status of water quality, but it is up to each Member State to identify and implement the appropriate measures to achieve ‘good water status’ in its waterbodies. | F23: =VLOOKUP($B23,'Legislation tool - TO HIDE'!$B$48:$K$78,3,FALSE) -> It is currently unclear if this will be triggered, as it may already be in place
B24: Ground Water Directive | D24: =VLOOKUP($B24,'Legislation tool - TO HIDE'!$B$48:$K$78,2,FALSE) -> The purpose of the Groundwater directive is to establish “[…] specific measures as provided for in Article 17(1) and (2) of Directive 2000/60/EC in order to prevent and control groundwater pollution.” (Groundwater Directive, 2006, Article 1). The Groundwater Directive is closely linked to the Water Framework Directive (Directive 2000/60/EC), but it sets out additional, complementary criteria for assessing ‘good groundwater chemical status’ and criteria for “[…] the identification and reversal of significant and sustained upward trends and for the definition of starting points for trend reversals.” (Article 1). | F24: =VLOOKUP($B24,'Legislation tool - TO HIDE'!$B$48:$K$78,3,FALSE) -> It is currently unclear if this will be triggered, as it may already be in place
... B43: Waste Packaging Directive | D43: =VLOOKUP($B43,'Legislation tool - TO HIDE'!$B$48:$K$78,2,FALSE) -> The purpose of the directive is “to harmonize national measures concerning the management of packaging and packaging waste in order” both for environmental reasons and to allow for the smooth functioning of trade within the EU (Article 1). The scope of the legislation “covers all packaging placed on the market in the Community and all packaging waste, whether it is used or released at industrial, commercial, office, shop, service, household or any other level, regardless of the material used”. Under Article 3 of the directive, a packaging is defined as a product that is made of any material for “containment, protection, handling, delivery and presentation of goods” (Article 3), which may include some uses of silver – say in refrigeration of food items. | F43: =VLOOKUP($B43,'Legislation tool - TO HIDE'!$B$48:$K$78,3,FALSE) -> It is currently unclear if this will be triggered, as it may already be in place
B45: Q16. Are there any additional legislation you believe will be triggered?
B46: Please note, there are three parts (A, B and C) to this question.
B48: A. Are there any EU/national legislation you believe we have missed? | F48: B. What additional legislation will be triggered? | G48: C. Please provide some explanation on how this legislation affects your business and is triggered by a Repro. 1B classification.
B49: Survey tips: | C49: Please note, that some national legislation may be the translation of EU directives into national legislature. These should not be included below, as the impacts of these legislation will already be included in the list in Q15. | F49: Space has been provided for additional legislation. Please fill in one legislation per box. | G49: Please provide as much detail as possible.
B52: Thank you for taking the time to complete this information. Please now continue on to (6) Impacts.

Sheet (6) Impacts
B2: (6) Impacts
B4: =IF('(1) Your organisation'!B16=" On behalf of my sector", "The legislation presented in (5) will result in a variety of different impacts to your members of your sector association."&" We have identified seven broad categories of additional impacts due to the proposed Repr. 1B classification:"&" (I) labelling requirements; (II) monitoring and data collection; (III) requirements for personnel/employees; (IV) risk management measures; (V) limiting the use of silver;"&" (VI) administrative requirement; (VII) knock-on effects on sales. Each of these may have one or more specific impacts/costs on your members.", "The legislation presented in (5) will result in a variety of different impacts to your organisation."&" We have identified seven broad categories of additional impacts due to the proposed Repr. 1B classification:"&" (I) labelling requirements; (II) monitoring and data collection; (III) requirements for personnel/employees; (IV) risk management measures; (V) limiting the use of silver;"&" (VI) administrative requirement; (VII) knock-on effects on sales. Each of these may have one or more specific impacts/costs on your organisation.") -> The legislation presented in (5) will result in a variety of different impacts to your organisation. We have identified seven broad categories of additional impacts due to the proposed Repr. 1B classification: (I) labelling requirements; (II) monitoring and data collection; (III) requirements for personnel/employees; (IV) risk management measures; (V) limiting the use of silver; (VI) administrative requirement; (VII) knock-on effects on sales. Each of these may have one or more specific impacts/costs on your organisation.
B5: This tab includes Q17 to Q23. Please note that the tables on the legislations and requirements (in grey) are for information only and will automatically populate (depending on your uses of the silver substances). As seen before, responses will be required for the cells in green, below the grey tables. As some of the text may be hidden given the row size, please select each of the legislations tables and press the wrap text button (see an example of this below) in the formatting options of your Excel software to expand all of the relevant cells.
B8: Q17. What are the impacts of additional labelling requirements?
B10: The Repr. 1B classification is likely to require additional labelling requirements for the following legislation. For a more general description of the legislation, please refer back to (5) Legislation.
B12: Legislation | C12: Likelihood of being triggered | D12: Requirements of legislation
B13: =IFERROR(INDEX('Legislation tool - TO HIDE'!$AM$14:$AM$41,_xlfn.AGGREGATE(15,3,('Legislation tool - TO HIDE'!$AN$14:$AN$41="y")/('Legislation tool - TO HIDE'!$AN$14:$AN$41="y")*(ROW('Legislation tool - TO HIDE'!$AN$14:$AN$41)-ROW('Legislation tool - TO HIDE'!$AM$13)),ROWS('Legislation tool - TO HIDE'!$AO$14:AO14))), "") | C13: =IF(B13="", "", VLOOKUP(B13,'Legislation tool - TO HIDE'!$B$48:$K$76,3,FALSE)) | D13: =IF(B13="", "", VLOOKUP(B13,'Legislation tool - TO HIDE'!$B$48:$K$76,4,FALSE))
B14: =IFERROR(INDEX('Legislation tool - TO HIDE'!$AM$14:$AM$41,_xlfn.AGGREGATE(15,3,('Legislation tool - TO HIDE'!$AN$14:$AN$41="y")/('Legislation tool - TO HIDE'!$AN$14:$AN$41="y")*(ROW('Legislation tool - TO HIDE'!$AN$14:$AN$41)-ROW('Legislation tool - TO HIDE'!$AM$13)),ROWS('Legislation tool - TO HIDE'!$AO$14:AO15))), "") | C14: =IF(B14="", "", VLOOKUP(B14,'Legislation tool - TO HIDE'!$B$48:$K$76,3,FALSE)) | D14: =IF(B14="", "", VLOOKUP(B14,'Legislation tool - TO HIDE'!$B$48:$K$76,4,FALSE))
B15: =IFERROR(INDEX('Legislation tool - TO HIDE'!$AM$14:$AM$41,_xlfn.AGGREGATE(15,3,('Legislation tool - TO HIDE'!$AN$14:$AN$41="y")/('Legislation tool - TO HIDE'!$AN$14:$AN$41="y")*(ROW('Legislation tool - TO HIDE'!$AN$14:$AN$41)-ROW('Legislation tool - TO HIDE'!$AM$13)),ROWS('Legislation tool - TO HIDE'!$AO$14:AO16))), "") | C15: =IF(B15="", "", VLOOKUP(B15,'Legislation tool - TO HIDE'!$B$48:$K$76,3,FALSE)) | D15: =IF(B15="", "", VLOOKUP(B15,'Legislation tool - TO HIDE'!$B$48:$K$76,4,FALSE))
B16: =IFERROR(INDEX('Legislation tool - TO HIDE'!$AM$14:$AM$41,_xlfn.AGGREGATE(15,3,('Legislation tool - TO HIDE'!$AN$14:$AN$41="y")/('Legislation tool - TO HIDE'!$AN$14:$AN$41="y")*(ROW('Legislation tool - TO HIDE'!$AN$14:$AN$41)-ROW('Legislation tool - TO HIDE'!$AM$13)),ROWS('Legislation tool - TO HIDE'!$AO$14:AO17))), "") | C16: =IF(B16="", "", VLOOKUP(B16,'Legislation tool - TO HIDE'!$B$48:$K$76,3,FALSE)) | D16: =IF(B16="", "", VLOOKUP(B16,'Legislation tool - TO HIDE'!$B$48:$K$76,4,FALSE))
B17: =IFERROR(INDEX('Legislation tool - TO HIDE'!$AM$14:$AM$41,_xlfn.AGGREGATE(15,3,('Legislation tool - TO HIDE'!$AN$14:$AN$41="y")/('Legislation tool - TO HIDE'!$AN$14:$AN$41="y")*(ROW('Legislation tool - TO HIDE'!$AN$14:$AN$41)-ROW('Legislation tool - TO HIDE'!$AM$13)),ROWS('Legislation tool - TO HIDE'!$AO$14:AO18))), "") | C17: =IF(B17="", "", VLOOKUP(B17,'Legislation tool - TO HIDE'!$B$48:$K$76,3,FALSE)) | D17: =IF(B17="", "", VLOOKUP(B17,'Legislation tool - TO HIDE'!$B$48:$K$76,4,FALSE))
B18: =IFERROR(INDEX('Legislation tool - TO HIDE'!$AM$14:$AM$41,_xlfn.AGGREGATE(15,3,('Legislation tool - TO HIDE'!$AN$14:$AN$41="y")/('Legislation tool - TO HIDE'!$AN$14:$AN$41="y")*(ROW('Legislation tool - TO HIDE'!$AN$14:$AN$41)-ROW('Legislation tool - TO HIDE'!$AM$13)),ROWS('Legislation tool - TO HIDE'!$AO$14:AO19))), "") | C18: =IF(B18="", "", VLOOKUP(B18,'Legislation tool - TO HIDE'!$B$48:$K$76,3,FALSE)) | D18: =IF(B18="", "", VLOOKUP(B18,'Legislation tool - TO HIDE'!$B$48:$K$76,4,FALSE))
B19: =IFERROR(INDEX('Legislation tool - TO HIDE'!$AM$14:$AM$41,_xlfn.AGGREGATE(15,3,('Legislation tool - TO HIDE'!$AN$14:$AN$41="y")/('Legislation tool - TO HIDE'!$AN$14:$AN$41="y")*(ROW('Legislation tool - TO HIDE'!$AN$14:$AN$41)-ROW('Legislation tool - TO HIDE'!$AM$13)),ROWS('Legislation tool - TO HIDE'!$AO$14:AO20))), "") | C19: =IF(B19="", "", VLOOKUP(B19,'Legislation tool - TO HIDE'!$B$48:$K$76,3,FALSE)) | D19: =IF(B19="", "", VLOOKUP(B19,'Legislation tool - TO HIDE'!$B$48:$K$76,4,FALSE))
B20: =IFERROR(INDEX('Legislation tool - TO HIDE'!$AM$14:$AM$41,_xlfn.AGGREGATE(15,3,('Legislation tool - TO HIDE'!$AN$14:$AN$41="y")/('Legislation tool - TO HIDE'!$AN$14:$AN$41="y")*(ROW('Legislation tool - TO HIDE'!$AN$14:$AN$41)-ROW('Legislation tool - TO HIDE'!$AM$13)),ROWS('Legislation tool - TO HIDE'!$AO$14:AO21))), "") | C20: =IF(B20="", "", VLOOKUP(B20,'Legislation tool - TO HIDE'!$B$48:$K$76,3,FALSE)) | D20: =IF(B20="", "", VLOOKUP(B20,'Legislation tool - TO HIDE'!$B$48:$K$76,4,FALSE))
B21: =IFERROR(INDEX('Legislation tool - TO HIDE'!$AM$14:$AM$41,_xlfn.AGGREGATE(15,3,('Legislation tool - TO HIDE'!$AN$14:$AN$41="y")/('Legislation tool - TO HIDE'!$AN$14:$AN$41="y")*(ROW('Legislation tool - TO HIDE'!$AN$14:$AN$41)-ROW('Legislation tool - TO HIDE'!$AM$13)),ROWS('Legislation tool - TO HIDE'!$AO$14:AO22))), "") | C21: =IF(B21="", "", VLOOKUP(B21,'Legislation tool - TO HIDE'!$B$48:$K$76,3,FALSE)) | D21: =IF(B21="", "", VLOOKUP(B21,'Legislation tool - TO HIDE'!$B$48:$K$76,4,FALSE))
B22: =IFERROR(INDEX('Legislation tool - TO HIDE'!$AM$14:$AM$41,_xlfn.AGGREGATE(15,3,('Legislation tool - TO HIDE'!$AN$14:$AN$41="y")/('Legislation tool - TO HIDE'!$AN$14:$AN$41="y")*(ROW('Legislation tool - TO HIDE'!$AN$14:$AN$41)-ROW('Legislation tool - TO HIDE'!$AM$13)),ROWS('Legislation tool - TO HIDE'!$AO$14:AO23))), "") | C22: =IF(B22="", "", VLOOKUP(B22,'Legislation tool - TO HIDE'!$B$48:$K$76,3,FALSE)) | D22: =IF(B22="", "", VLOOKUP(B22,'Legislation tool - TO HIDE'!$B$48:$K$76,4,FALSE))
B23: =IFERROR(INDEX('Legislation tool - TO HIDE'!$AM$14:$AM$41,_xlfn.AGGREGATE(15,3,('Legislation tool - TO HIDE'!$AN$14:$AN$41="y")/('Legislation tool - TO HIDE'!$AN$14:$AN$41="y")*(ROW('Legislation tool - TO HIDE'!$AN$14:$AN$41)-ROW('Legislation tool - TO HIDE'!$AM$13)),ROWS('Legislation tool - TO HIDE'!$AO$14:AO24))), "") | C23: =IF(B23="", "", VLOOKUP(B23,'Legislation tool - TO HIDE'!$B$48:$K$76,3,FALSE)) | D23: =IF(B23="", "", VLOOKUP(B23,'Legislation tool - TO HIDE'!$B$48:$K$76,4,FALSE))
B24: =IFERROR(INDEX('Legislation tool - TO HIDE'!$AM$14:$AM$41,_xlfn.AGGREGATE(15,3,('Legislation tool - TO HIDE'!$AN$14:$AN$41="y")/('Legislation tool - TO HIDE'!$AN$14:$AN$41="y")*(ROW('Legislation tool - TO HIDE'!$AN$14:$AN$41)-ROW('Legislation tool - TO HIDE'!$AM$13)),ROWS('Legislation tool - TO HIDE'!$AO$14:AO25))), "") | C24: =IF(B24="", "", VLOOKUP(B24,'Legislation tool - TO HIDE'!$B$48:$K$76,3,FALSE)) | D24: =IF(B24="", "", VLOOKUP(B24,'Legislation tool - TO HIDE'!$B$48:$K$76,4,FALSE))
... B41: =IFERROR(INDEX('Legislation tool - TO HIDE'!$AM$14:$AM$41,_xlfn.AGGREGATE(15,3,('Legislation tool - TO HIDE'!$AN$14:$AN$41="y")/('Legislation tool - TO HIDE'!$AN$14:$AN$41="y")*(ROW('Legislation tool - TO HIDE'!$AN$14:$AN$41)-ROW('Legislation tool - TO HIDE'!$AM$13)),ROWS('Legislation tool - TO HIDE'!$AO$14:AO42))), "") | C41: =IF(B41="", "", VLOOKUP(B41,'Legislation tool - TO HIDE'!$B$48:$K$76,3,FALSE)) | D41: =IF(B41="", "", VLOOKUP(B41,'Legislation tool - TO HIDE'!$B$48:$K$76,4,FALSE))
B43: The specific costs of the legislation include the cost of packaging and labelling.
B45: What are the additional costs of implementing these labelling requirements?
B47: A. How long would it take to implement these changes? | C47: B. What is the one-off cost of updating existing labelling and packaging? | D47: C. What is the one-off cost of disposing of old labelling and packaging. | E47: D. Please provide details of any other additional costs that you expect.
B48: Please select from the dropdown | C48: Please select from the dropdown. Select the value that is approximately closest. | D48: Please select from the dropdown. Select the value that is approximately closest.
B49: Less than one year | C49: Approximately €10k | D49: Approximately €5k | E49: -
B52: Q18. What are the impacts of additional monitoring and data collection?
B54: The Repr. 1B classification is likely to require additional monitoring and data collection for the following legislation. For a more general description of the legislation, please refer back to (5) Legislation.
B56: Legislation | C56: Likelihood of being triggered | D56: Requirements of legislation
B57: =IFERROR(INDEX('Legislation tool - TO HIDE'!$AM$14:$AM$41,_xlfn.AGGREGATE(15,3,('Legislation tool - TO HIDE'!$AN$14:$AN$41="y")/('Legislation tool - TO HIDE'!$AN$14:$AN$41="y")*(ROW('Legislation tool - TO HIDE'!$AN$14:$AN$41)-ROW('Legislation tool - TO HIDE'!$AM$13)),ROWS('Legislation tool - TO HIDE'!$AO$14:AO14))), "") | C57: =IF(B57="", "", VLOOKUP(B57,'Legislation tool - TO HIDE'!$B$48:$K$76,3,FALSE)) | D57: =IF(B57="", "", VLOOKUP(B57,'Legislation tool - TO HIDE'!$B$48:$K$76,5,FALSE))
B58: =IFERROR(INDEX('Legislation tool - TO HIDE'!$AM$14:$AM$41,_xlfn.AGGREGATE(15,3,('Legislation tool - TO HIDE'!$AN$14:$AN$41="y")/('Legislation tool - TO HIDE'!$AN$14:$AN$41="y")*(ROW('Legislation tool - TO HIDE'!$AN$14:$AN$41)-ROW('Legislation tool - TO HIDE'!$AM$13)),ROWS('Legislation tool - TO HIDE'!$AO$14:AO15))), "") | C58: =IF(B58="", "", VLOOKUP(B58,'Legislation tool - TO HIDE'!$B$48:$K$76,3,FALSE)) | D58: =IF(B58="", "", VLOOKUP(B58,'Legislation tool - TO HIDE'!$B$48:$K$76,5,FALSE))
B59: =IFERROR(INDEX('Legislation tool - TO HIDE'!$AM$14:$AM$41,_xlfn.AGGREGATE(15,3,('Legislation tool - TO HIDE'!$AN$14:$AN$41="y")/('Legislation tool - TO HIDE'!$AN$14:$AN$41="y")*(ROW('Legislation tool - TO HIDE'!$AN$14:$AN$41)-ROW('Legislation tool - TO HIDE'!$AM$13)),ROWS('Legislation tool - TO HIDE'!$AO$14:AO16))), "") | C59: =IF(B59="", "", VLOOKUP(B59,'Legislation tool - TO HIDE'!$B$48:$K$76,3,FALSE)) | D59: =IF(B59="", "", VLOOKUP(B59,'Legislation tool - TO HIDE'!$B$48:$K$76,5,FALSE))
B60: =IFERROR(INDEX('Legislation tool - TO HIDE'!$AM$14:$AM$41,_xlfn.AGGREGATE(15,3,('Legislation tool - TO HIDE'!$AN$14:$AN$41="y")/('Legislation tool - TO HIDE'!$AN$14:$AN$41="y")*(ROW('Legislation tool - TO HIDE'!$AN$14:$AN$41)-ROW('Legislation tool - TO HIDE'!$AM$13)),ROWS('Legislation tool - TO HIDE'!$AO$14:AO17))), "") | C60: =IF(B60="", "", VLOOKUP(B60,'Legislation tool - TO HIDE'!$B$48:$K$76,3,FALSE)) | D60: =IF(B60="", "", VLOOKUP(B60,'Legislation tool - TO HIDE'!$B$48:$K$76,5,FALSE))
B61: =IFERROR(INDEX('Legislation tool - TO HIDE'!$AM$14:$AM$41,_xlfn.AGGREGATE(15,3,('Legislation tool - TO HIDE'!$AN$14:$AN$41="y")/('Legislation tool - TO HIDE'!$AN$14:$AN$41="y")*(ROW('Legislation tool - TO HIDE'!$AN$14:$AN$41)-ROW('Legislation tool - TO HIDE'!$AM$13)),ROWS('Legislation tool - TO HIDE'!$AO$14:AO18))), "") | C61: =IF(B61="", "", VLOOKUP(B61,'Legislation tool - TO HIDE'!$B$48:$K$76,3,FALSE)) | D61: =IF(B61="", "", VLOOKUP(B61,'Legislation tool - TO HIDE'!$B$48:$K$76,5,FALSE))
B62: =IFERROR(INDEX('Legislation tool - TO HIDE'!$AM$14:$AM$41,_xlfn.AGGREGATE(15,3,('Legislation tool - TO HIDE'!$AN$14:$AN$41="y")/('Legislation tool - TO HIDE'!$AN$14:$AN$41="y")*(ROW('Legislation tool - TO HIDE'!$AN$14:$AN$41)-ROW('Legislation tool - TO HIDE'!$AM$13)),ROWS('Legislation tool - TO HIDE'!$AO$14:AO19))), "") | C62: =IF(B62="", "", VLOOKUP(B62,'Legislation tool - TO HIDE'!$B$48:$K$76,3,FALSE)) | D62: =IF(B62="", "", VLOOKUP(B62,'Legislation tool - TO HIDE'!$B$48:$K$76,5,FALSE))
B63: =IFERROR(INDEX('Legislation tool - TO HIDE'!$AM$14:$AM$41,_xlfn.AGGREGATE(15,3,('Legislation tool - TO HIDE'!$AN$14:$AN$41="y")/('Legislation tool - TO HIDE'!$AN$14:$AN$41="y")*(ROW('Legislation tool - TO HIDE'!$AN$14:$AN$41)-ROW('Legislation tool - TO HIDE'!$AM$13)),ROWS('Legislation tool - TO HIDE'!$AO$14:AO20))), "") | C63: =IF(B63="", "", VLOOKUP(B63,'Legislation tool - TO HIDE'!$B$48:$K$76,3,FALSE)) | D63: =IF(B63="", "", VLOOKUP(B63,'Legislation tool - TO HIDE'!$B$48:$K$76,5,FALSE))
B64: =IFERROR(INDEX('Legislation tool - TO HIDE'!$AM$14:$AM$41,_xlfn.AGGREGATE(15,3,('Legislation tool - TO HIDE'!$AN$14:$AN$41="y")/('Legislation tool - TO HIDE'!$AN$14:$AN$41="y")*(ROW('Legislation tool - TO HIDE'!$AN$14:$AN$41)-ROW('Legislation tool - TO HIDE'!$AM$13)),ROWS('Legislation tool - TO HIDE'!$AO$14:AO21))), "") | C64: =IF(B64="", "", VLOOKUP(B64,'Legislation tool - TO HIDE'!$B$48:$K$76,3,FALSE)) | D64: =IF(B64="", "", VLOOKUP(B64,'Legislation tool - TO HIDE'!$B$48:$K$76,5,FALSE))
B65: =IFERROR(INDEX('Legislation tool - TO HIDE'!$AM$14:$AM$41,_xlfn.AGGREGATE(15,3,('Legislation tool - TO HIDE'!$AN$14:$AN$41="y")/('Legislation tool - TO HIDE'!$AN$14:$AN$41="y")*(ROW('Legislation tool - TO HIDE'!$AN$14:$AN$41)-ROW('Legislation tool - TO HIDE'!$AM$13)),ROWS('Legislation tool - TO HIDE'!$AO$14:AO22))), "") | C65: =IF(B65="", "", VLOOKUP(B65,'Legislation tool - TO HIDE'!$B$48:$K$76,3,FALSE)) | D65: =IF(B65="", "", VLOOKUP(B65,'Legislation tool - TO HIDE'!$B$48:$K$76,5,FALSE))
B66: =IFERROR(INDEX('Legislation tool - TO HIDE'!$AM$14:$AM$41,_xlfn.AGGREGATE(15,3,('Legislation tool - TO HIDE'!$AN$14:$AN$41="y")/('Legislation tool - TO HIDE'!$AN$14:$AN$41="y")*(ROW('Legislation tool - TO HIDE'!$AN$14:$AN$41)-ROW('Legislation tool - TO HIDE'!$AM$13)),ROWS('Legislation tool - TO HIDE'!$AO$14:AO23))), "") | C66: =IF(B66="", "", VLOOKUP(B66,'Legislation tool - TO HIDE'!$B$48:$K$76,3,FALSE)) | D66: =IF(B66="", "", VLOOKUP(B66,'Legislation tool - TO HIDE'!$B$48:$K$76,5,FALSE))
B67: =IFERROR(INDEX('Legislation tool - TO HIDE'!$AM$14:$AM$41,_xlfn.AGGREGATE(15,3,('Legislation tool - TO HIDE'!$AN$14:$AN$41="y")/('Legislation tool - TO HIDE'!$AN$14:$AN$41="y")*(ROW('Legislation tool - TO HIDE'!$AN$14:$AN$41)-ROW('Legislation tool - TO HIDE'!$AM$13)),ROWS('Legislation tool - TO HIDE'!$AO$14:AO24))), "") | C67: =IF(B67="", "", VLOOKUP(B67,'Legislation tool - TO HIDE'!$B$48:$K$76,3,FALSE)) | D67: =IF(B67="", "", VLOOKUP(B67,'Legislation tool - TO HIDE'!$B$48:$K$76,5,FALSE))
B68: =IFERROR(INDEX('Legislation tool - TO HIDE'!$AM$14:$AM$41,_xlfn.AGGREGATE(15,3,('Legislation tool - TO HIDE'!$AN$14:$AN$41="y")/('Legislation tool - TO HIDE'!$AN$14:$AN$41="y")*(ROW('Legislation tool - TO HIDE'!$AN$14:$AN$41)-ROW('Legislation tool - TO HIDE'!$AM$13)),ROWS('Legislation tool - TO HIDE'!$AO$14:AO25))), "") | C68: =IF(B68="", "", VLOOKUP(B68,'Legislation tool - TO HIDE'!$B$48:$K$76,3,FALSE)) | D68: =IF(B68="", "", VLOOKUP(B68,'Legislation tool - TO HIDE'!$B$48:$K$76,5,FALSE))
... B85: =IFERROR(INDEX('Legislation tool - TO HIDE'!$AM$14:$AM$41,_xlfn.AGGREGATE(15,3,('Legislation tool - TO HIDE'!$AN$14:$AN$41="y")/('Legislation tool - TO HIDE'!$AN$14:$AN$41="y")*(ROW('Legislation tool - TO HIDE'!$AN$14:$AN$41)-ROW('Legislation tool - TO HIDE'!$AM$13)),ROWS('Legislation tool - TO HIDE'!$AO$14:AO42))), "") | C85: =IF(B85="", "", VLOOKUP(B85,'Legislation tool - TO HIDE'!$B$48:$K$76,3,FALSE)) | D85: =IF(B85="", "", VLOOKUP(B85,'Legislation tool - TO HIDE'!$B$48:$K$76,5,FALSE))
...

Sheet (7) Survey end
B2: (7) Survey end
B4: Thank you for taking the time to complete this survey. If you have any final comments, please fill in the box below.
B8: Please return the survey as instructed in the Introduction. We will be analysing your results and may come back to you with follow-up questions on your responses. All of the results will then be aggregated by sector into the following sectors:
B10: Manufacture of silver and silver compounds (including recycling)
B11: Manufacture of other chemical compounds (including use as a catalyst)
B12: Aerospace
B13: Cosmetics
B14: Electronics and electrical equipment (not used in aerospace and automotive)
B15: Jewellery and luxury items/finishes
B16: Medical
B17: Photographic
B18: Silverware
... B24: Following this, you will be given an opportunity to comment on these aggregated results in April/May 2020, before the figures are finalised in June 2020.

Sheet Legislation tool - TO HIDE
B1: Uses
B2: =IF('(2) Volume used'!B31="", "", '(2) Volume used'!B31)
B3: =IF('(2) Volume used'!B32="", "", '(2) Volume used'!B32)
B4: =IF('(2) Volume used'!B33="", "", '(2) Volume used'!B33)
B5: =IF('(2) Volume used'!B34="", "", '(2) Volume used'!B34)
B6: =IF('(2) Volume used'!B35="", "", '(2) Volume used'!B35)
B7: =IF('(2) Volume used'!B36="", "", '(2) Volume used'!B36)
B8: =IF('(2) Volume used'!B37="", "", '(2) Volume used'!B37)
B9: =IF('(2) Volume used'!B38="", "", '(2) Volume used'!B38)
B10: =IF('(2) Volume used'!B39="", "", '(2) Volume used'!B39)
B11: =IF('(2) Volume used'!B40="", "", '(2) Volume used'!B40)
